BEGIN:VCALENDAR
VERSION:2.0
PRODID:Imitheme.com 
BEGIN:VEVENT
UID:20260423T1530041532539599
DTSTAMP;TZID=UTC:20260423T153004
DTSTART;TZID=UTC:20260423T153004
DTEND;TZID=UTC:20260423T153004
SUMMARY:Apéros e-commerce Hainaut #3
LOCATION:
DESCRIPTION:<h3>Thématique \: \"le service après-vente d\'un e-commerce \: échange de bonnes pratiques\".</h3> Après avoir abordé les stratégies en ligne\, l\'e-marketing sous différentes formes\, la conversion web\, l\'encaissement en ligne\, la livraison\,... une de nos soirées devait être consacrée ensuite au SAV\, étape tout aussi importante pour éviter que tous les efforts déployés pour acquérir un client ne soient perdus. Un mauvaise expérience de service après-vente\, c\'est la garantie que le client ne reviendra plus\, mais aussi des risques d\'avis négatifs sur des forums de discussions\, avec au final une e-réputation désastreuse qui fera fuir des prospects. Lors de cette soirée\, <strong>nous échangerons entre e-commerçants nos bonnes pratiques pour</strong> \: <ul> <li><strong>réceptionner les doléances</strong> (quels canaux\: e-mail\, tél\, SMS\, Messenger\; quels horaires\, quelles langues\, quels délais\,...)\,</li> <li><strong>gérer les cas litigieux de retour et remboursements (</strong>exercice du droit de rétractation alors que le produit a été utilisé\; exercice de la garantie légale pour un objet détériorié\,...)\,</li> <li><strong>traiter les avis-consommateurs</strong> publiés en ligne sur notre e-shop ou sur des sites de tiers (Test-Achats\,...).</li> </ul> Comme d’habitude\, nous conclurons cette séance par un verre de l’amitié avec les e-commerçants présents. <strong>Cet événement est réservé aux e-commerçants\, à ceux qui comptent se lancer dans la vente en ligne.</strong> <h2><span style=\"text-decoration\: underline\;\"><a href=\"https\://www.eventbrite.com/e/apero-e-commerce-mons-initialis-1303-tickets-27485809797\" target=\"_blank\">Inscription sur Eventbrite</a></span></h2>
END:VEVENT
END:VCALENDAR
