BEGIN:VCALENDAR
VERSION:2.0
PRODID:Imitheme.com 
BEGIN:VEVENT
UID:20260422T115705663831470
DTSTAMP;TZID=UTC:20260422T115705
DTSTART;TZID=UTC:20260422T115705
DTEND;TZID=UTC:20260422T115705
SUMMARY:Apéro e-commerce Liège #17
LOCATION:
DESCRIPTION:<h4 style=\"text-align\: center\;\">[imic_button colour=\"btn-primary\" type=\"enabled\" link=\"https\://www.eventbrite.fr/e/billets-apero-e-commerce-liege-17-55331870113#tickets\" target=\"_self\" extraclass=\"\" size=\"btn-lg\"]S\'inscrire à l\'apéro web &amp\; e-commerce maintenant[/imic_button]</h4> <h4 style=\"text-align\: center\;\"></h4>
END:VEVENT
END:VCALENDAR
